BEGIN:VCALENDAR
VERSION:2.0
PRODID:-//S&#039;Freibädle Beutelsbach e.V. - ECPv6.15.20//NONSGML v1.0//EN
CALSCALE:GREGORIAN
METHOD:PUBLISH
X-ORIGINAL-URL:https://freibaedle-beutelsbach.de
X-WR-CALDESC:Veranstaltungen für S&#039;Freibädle Beutelsbach e.V.
REFRESH-INTERVAL;VALUE=DURATION:PT1H
X-Robots-Tag:noindex
X-PUBLISHED-TTL:PT1H
BEGIN:VTIMEZONE
TZID:Europe/Berlin
BEGIN:DAYLIGHT
TZOFFSETFROM:+0100
TZOFFSETTO:+0200
TZNAME:CEST
DTSTART:20250330T010000
END:DAYLIGHT
BEGIN:STANDARD
TZOFFSETFROM:+0200
TZOFFSETTO:+0100
TZNAME:CET
DTSTART:20251026T010000
END:STANDARD
BEGIN:DAYLIGHT
TZOFFSETFROM:+0100
TZOFFSETTO:+0200
TZNAME:CEST
DTSTART:20260329T010000
END:DAYLIGHT
BEGIN:STANDARD
TZOFFSETFROM:+0200
TZOFFSETTO:+0100
TZNAME:CET
DTSTART:20261025T010000
END:STANDARD
BEGIN:DAYLIGHT
TZOFFSETFROM:+0100
TZOFFSETTO:+0200
TZNAME:CEST
DTSTART:20270328T010000
END:DAYLIGHT
BEGIN:STANDARD
TZOFFSETFROM:+0200
TZOFFSETTO:+0100
TZNAME:CET
DTSTART:20271031T010000
END:STANDARD
END:VTIMEZONE
BEGIN:VEVENT
DTSTART;TZID=Europe/Berlin:20260509T100000
DTEND;TZID=Europe/Berlin:20260509T190000
DTSTAMP:20260420T161358
CREATED:20260331T174013Z
LAST-MODIFIED:20260418T132652Z
UID:2405-1778320800-1778353200@freibaedle-beutelsbach.de
SUMMARY:Eröffnungsparty & Anbaden
DESCRIPTION:Wir eröffnen die Tore zu unserem Freibad in Beutelsbach zum ersten Mal im Vereinsbetrieb! Hierzu laden wir alle herzlich ein!  \n\n\n\n\n· Sektempfang und Eröffnungsrede\n\n\n\n· Gratis Eis für Kinder\n\n\n\n· Kaffee und Kuchen\n\n\n\n· Wasserrettungsvorführungen\n\n\n\n· Kinderanimation\n\n\n\n· weitere Aktionen – lasst euch überraschen!\n\n\n\n\n\n\n\n\n\n\n\n\nUm ca. 16 Uhr endet die KlimaBündnis Weinstadt-Aktion KIDICAL MASS Weinstadt am Freibädle.  \n\n\n\nDas Kiosk kann auf Herz und Nieren geprüft werden und natürlich kann im Freibad im neuen Glanz gebadet werden. Aber auch ein Besuch ohne den Sprung ins Wasser ist in jedem Fall lohnenswert!  \n\n\n\nWir freuen uns auf euren Besuch!
URL:https://freibaedle-beutelsbach.de/event/eroeffnungsparty-anbaden/
END:VEVENT
END:VCALENDAR